BEGIN:VCALENDAR
VERSION:2.0
PRODID:SchoolNow
CALSCALE:GREGORIAN
BEGIN:VEVENT
UID:faacae0c-b61f-11ee-b3f1-0eb06ebdd9ed
DTSTAMP:20240125T144451Z
SUMMARY:Cave brownie sale
URL;VALUE=URI:https://www.hunterdonprep.org/calendar/5173983/cave-pizza-rol
 l-sale
DTSTART:20240131T172500Z
DTEND:20240131T182500Z
END:VEVENT
END:VCALENDAR
