BEGIN:VCALENDAR
VERSION:2.0
PRODID:SchoolNow
CALSCALE:GREGORIAN
BEGIN:VEVENT
UID:9550b374-ab33-11ee-8f42-0a58a9feac02
DTSTAMP:20240104T190053Z
SUMMARY:Snow tubing trip to Shawnee Mountain\, PA (2:30-9:00 PM)
URL;VALUE=URI:https://www.hunterdonprep.org/calendar/5103684/snow-tubing-tr
 ip-to-shawnee-mountain-pa-2-30-9-00-pm
DTSTART:20240118T193000Z
DTEND:20240119T020000Z
END:VEVENT
END:VCALENDAR
