BEGIN:VCALENDAR
VERSION:2.0
PRODID:SchoolNow
CALSCALE:GREGORIAN
BEGIN:VEVENT
UID:7f52e3da-a020-11ee-8a2c-0a58a9feac02
DTSTAMP:20231221T164633Z
SUMMARY:NJGPA testing (make-ups)
URL;VALUE=URI:https://www.hunterdonprep.org/calendar/5037442/njgpa-testing-
 make-ups
DTSTART;VALUE=DATE:20240318
DTEND;VALUE=DATE:20240323
END:VEVENT
END:VCALENDAR
