BEGIN:VCALENDAR
VERSION:2.0
PRODID:SchoolNow
CALSCALE:GREGORIAN
BEGIN:VEVENT
UID:6c28efb6-a020-11ee-8edf-0a58a9feac02
DTSTAMP:20231221T164600Z
SUMMARY:NJGPA testing (3/11-3/15/24)
URL;VALUE=URI:https://www.hunterdonprep.org/calendar/5037441/njgpa-testing-
 3-11-3-15-24
DTSTART;VALUE=DATE:20240311
DTEND;VALUE=DATE:20240316
END:VEVENT
END:VCALENDAR
