BEGIN:VCALENDAR
VERSION:2.0
PRODID:SchoolNow
CALSCALE:GREGORIAN
BEGIN:VEVENT
UID:3eaad270-a020-11ee-a6b0-0a4069ab30d1
DTSTAMP:20231221T164444Z
SUMMARY:Hive pizza sale ($3.00/slice and $5.00/two slices)
URL;VALUE=URI:https://www.hunterdonprep.org/calendar/5037440/hive-pizza-sal
 e-3-00-slice-and-5-00-two-slices
DTSTART:20240124T172500Z
DTEND:20240124T182500Z
END:VEVENT
END:VCALENDAR
