BEGIN:VCALENDAR
VERSION:2.0
PRODID:SchoolNow
CALSCALE:GREGORIAN
BEGIN:VEVENT
UID:26c3d166-951c-11ee-a732-0a58a9feac02
DTSTAMP:20231207T161743Z
SUMMARY:HPS holiday celebration
URL;VALUE=URI:https://www.hunterdonprep.org/calendar/4987086/hps-holiday-ce
 lebration
DTSTART:20231222T140000Z
DTEND:20231222T172500Z
END:VEVENT
END:VCALENDAR
