BEGIN:VCALENDAR
VERSION:2.0
PRODID:SchoolNow
CALSCALE:GREGORIAN
BEGIN:VEVENT
UID:14faa680-951c-11ee-8822-0a58a9feac02
DTSTAMP:20231207T161713Z
SUMMARY:Holiday concert rehearsal (NOTE: 2:30-4:30)
URL;VALUE=URI:https://www.hunterdonprep.org/calendar/4987085/holiday-concer
 t-rehearsal-note-2-30-4-30
DTSTART:20231221T193000Z
DTEND:20231221T213000Z
END:VEVENT
END:VCALENDAR
