BEGIN:VCALENDAR
VERSION:2.0
PRODID:SchoolNow
CALSCALE:GREGORIAN
BEGIN:VEVENT
UID:24fda708-9468-11ee-b6ee-0a58a9feac02
DTSTAMP:20231206T184911Z
SUMMARY:School closed in observance of MLK day
URL;VALUE=URI:https://www.hunterdonprep.org/calendar/4985667/school-closed-
 in-observance-of-mlk-day
DTSTART;VALUE=DATE:20240115
DTEND;VALUE=DATE:20240116
END:VEVENT
END:VCALENDAR
