BEGIN:VCALENDAR
VERSION:2.0
PRODID:SchoolNow
CALSCALE:GREGORIAN
BEGIN:VEVENT
UID:1917aaa6-9468-11ee-bf42-0a58a9feac02
DTSTAMP:20231206T184851Z
SUMMARY:Early dismissal for students at 12:30
URL;VALUE=URI:https://www.hunterdonprep.org/calendar/4985666/early-dismissa
 l-for-students-at-12-30
DTSTART:20240112T173000Z
DTEND:20240112T183000Z
END:VEVENT
END:VCALENDAR
