BEGIN:VCALENDAR
VERSION:2.0
PRODID:SchoolNow
CALSCALE:GREGORIAN
BEGIN:VEVENT
UID:f185ed40-9467-11ee-9387-02133c40fc11
DTSTAMP:20231206T184744Z
SUMMARY:Last day of the 2nd marking period
URL;VALUE=URI:https://www.hunterdonprep.org/calendar/4985664/last-day-of-th
 e-2nd-marking-period
DTSTART;VALUE=DATE:20240126
DTEND;VALUE=DATE:20240127
END:VEVENT
END:VCALENDAR
