BEGIN:VCALENDAR
VERSION:2.0
PRODID:SchoolNow
CALSCALE:GREGORIAN
BEGIN:VEVENT
UID:bc3fab08-9467-11ee-9ca7-0a58a9feac02
DTSTAMP:20231206T184615Z
SUMMARY:Pop up dreidel competition
URL;VALUE=URI:https://www.hunterdonprep.org/calendar/4985663/pop-up-dreidel
 -competition
DTSTART:20231213T184500Z
DTEND:20231213T192500Z
END:VEVENT
END:VCALENDAR
