BEGIN:VCALENDAR
VERSION:2.0
PRODID:SchoolNow
CALSCALE:GREGORIAN
BEGIN:VEVENT
UID:8fc2b84a-9467-11ee-a8f5-0ee9092efd01
DTSTAMP:20231206T184500Z
SUMMARY:Troupe waffle & bacon sale ($2.00 waffles/$3.00 with bacon)
URL;VALUE=URI:https://www.hunterdonprep.org/calendar/4985662/troupe-waffle-
 bacon-sale-2-00-waffles-3-00-with-bacon
DTSTART:20231208T172500Z
DTEND:20231208T182500Z
END:VEVENT
END:VCALENDAR
