BEGIN:VCALENDAR
VERSION:2.0
PRODID:SchoolNow
CALSCALE:GREGORIAN
BEGIN:VEVENT
UID:6d567892-8e0d-11ee-8102-0a58a9feac02
DTSTAMP:20231128T164441Z
SUMMARY:After school club (holiday movie)
URL;VALUE=URI:https://www.hunterdonprep.org/calendar/4972407/after-school-c
 lub-holiday-movie
DTSTART:20231219T193000Z
DTEND:20231219T213000Z
END:VEVENT
END:VCALENDAR
