BEGIN:VCALENDAR
VERSION:2.0
PRODID:SchoolNow
CALSCALE:GREGORIAN
BEGIN:VEVENT
UID:5d24febc-8e0d-11ee-9eee-0a58a9feac02
DTSTAMP:20231128T164414Z
SUMMARY:After school club (gingerbread-like houses)
URL;VALUE=URI:https://www.hunterdonprep.org/calendar/4972406/after-school-c
 lub-gingerbread-like-houses
DTSTART:20231212T193000Z
DTEND:20231212T213000Z
END:VEVENT
END:VCALENDAR
