BEGIN:VCALENDAR
VERSION:2.0
PRODID:SchoolNow
CALSCALE:GREGORIAN
BEGIN:VEVENT
UID:481b80e0-8e0d-11ee-bc12-027c6d37f12b
DTSTAMP:20231128T164339Z
SUMMARY:After school club (cooking baking/decorating)
URL;VALUE=URI:https://www.hunterdonprep.org/calendar/4972405/after-school-c
 lub-cooking-baking-decorating
DTSTART:20231205T193000Z
DTEND:20231205T213000Z
END:VEVENT
END:VCALENDAR
