BEGIN:VCALENDAR
VERSION:2.0
PRODID:SchoolNow
CALSCALE:GREGORIAN
BEGIN:VEVENT
UID:23628794-8e0d-11ee-b431-02366e1f38b9
DTSTAMP:20231206T185416Z
SUMMARY:Haunted Mill pizza lunch (for students who participated)
URL;VALUE=URI:https://www.hunterdonprep.org/calendar/4972404/haunted-mill-l
 uncheon-for-students-who-participated
DTSTART:20231211T052500Z
DTEND:20231211T062500Z
END:VEVENT
END:VCALENDAR
