BEGIN:VCALENDAR
VERSION:2.0
PRODID:SchoolNow
CALSCALE:GREGORIAN
BEGIN:VEVENT
UID:051dce92-8e0d-11ee-920a-0a5dde1e9b93
DTSTAMP:20231207T161755Z
SUMMARY:Holiday tree expedition
URL;VALUE=URI:https://www.hunterdonprep.org/calendar/4972403/holiday-tree-e
 xpedition
DTSTART:20231208T164500Z
DTEND:20231208T174500Z
END:VEVENT
END:VCALENDAR
