BEGIN:VCALENDAR
VERSION:2.0
PRODID:SchoolNow
CALSCALE:GREGORIAN
BEGIN:VEVENT
UID:19d530ec-8e0c-11ee-bb10-0a58a9feac02
DTSTAMP:20231129T172421Z
SUMMARY:Nest hot chocolate sale ($2.00)
URL;VALUE=URI:https://www.hunterdonprep.org/calendar/4972402/nest-hot-choco
 late-sale
DTSTART:20231220T134500Z
DTEND:20231220T180000Z
END:VEVENT
END:VCALENDAR
