BEGIN:VCALENDAR
VERSION:2.0
PRODID:SchoolNow
CALSCALE:GREGORIAN
BEGIN:VEVENT
UID:f9aa417c-8e0b-11ee-8956-0a58a9feac02
DTSTAMP:20231128T163417Z
SUMMARY:Hive pizza sale (1 for $3 or 2 for $5)
URL;VALUE=URI:https://www.hunterdonprep.org/calendar/4972401/hive-pizza-sal
 e-1-for-3-or-2-for-5
DTSTART:20231213T172500Z
DTEND:20231213T182500Z
END:VEVENT
END:VCALENDAR
