BEGIN:VCALENDAR
VERSION:2.0
PRODID:SchoolNow
CALSCALE:GREGORIAN
BEGIN:VEVENT
UID:c4644bf4-84b8-11ee-bbb2-0a58a9feac02
DTSTAMP:20231116T194559Z
SUMMARY:Holiday Hands United Way collection
URL;VALUE=URI:https://www.hunterdonprep.org/calendar/4953033/holiday-hands-
 united-way-collection
DTSTART;VALUE=DATE:20231117
DTEND;VALUE=DATE:20231128
END:VEVENT
END:VCALENDAR
