BEGIN:VCALENDAR
VERSION:2.0
PRODID:SchoolNow
CALSCALE:GREGORIAN
BEGIN:VEVENT
UID:99288338-84b8-11ee-bb6e-0a7e7dc7076b
DTSTAMP:20231116T194447Z
SUMMARY:School re-opens on Tuesday\, 1/2/24
URL;VALUE=URI:https://www.hunterdonprep.org/calendar/4953032/school-re-open
 s-on-tuesday-1-2-24
DTSTART;VALUE=DATE:20240102
DTEND;VALUE=DATE:20240103
END:VEVENT
END:VCALENDAR
