BEGIN:VCALENDAR
VERSION:2.0
PRODID:SchoolNow
CALSCALE:GREGORIAN
BEGIN:VEVENT
UID:8b1eea34-84b8-11ee-91c9-0e0e5e9aa2d3
DTSTAMP:20231116T194423Z
SUMMARY:School closed for winter break (12/25/23 - 1/1/24)
URL;VALUE=URI:https://www.hunterdonprep.org/calendar/4953031/school-closed-
 for-winter-break-12-25-23-1-1-24
DTSTART;VALUE=DATE:20231225
DTEND;VALUE=DATE:20240102
END:VEVENT
END:VCALENDAR
