BEGIN:VCALENDAR
VERSION:2.0
PRODID:SchoolNow
CALSCALE:GREGORIAN
BEGIN:VEVENT
UID:75c93720-84b8-11ee-93a4-0aca8bad9195
DTSTAMP:20231116T194348Z
SUMMARY:Early dismissal at 12:30
URL;VALUE=URI:https://www.hunterdonprep.org/calendar/4953030/early-dismissa
 l-at-12-30
DTSTART:20231222T173000Z
DTEND:20231222T183000Z
END:VEVENT
END:VCALENDAR
