BEGIN:VCALENDAR
VERSION:2.0
PRODID:SchoolNow
CALSCALE:GREGORIAN
BEGIN:VEVENT
UID:5bce3212-84b8-11ee-8d6e-0a58a9feac02
DTSTAMP:20231116T194304Z
SUMMARY:Holiday bazaar (1:05-2:30)
URL;VALUE=URI:https://www.hunterdonprep.org/calendar/4953029/holiday-bazaar
 -1-05-2-30
DTSTART:20231215T180000Z
DTEND:20231215T193000Z
END:VEVENT
END:VCALENDAR
