BEGIN:VCALENDAR
VERSION:2.0
PRODID:SchoolNow
CALSCALE:GREGORIAN
BEGIN:VEVENT
UID:1a66530e-84b8-11ee-891c-0a58a9feac02
DTSTAMP:20231130T143932Z
SUMMARY:Cave bagel sale ($2.00)
URL;VALUE=URI:https://www.hunterdonprep.org/calendar/4953028/cave-bagel-sal
 e
DTSTART:20231204T140000Z
DTEND:20231204T180000Z
END:VEVENT
END:VCALENDAR
