BEGIN:VCALENDAR
VERSION:2.0
PRODID:SchoolNow
CALSCALE:GREGORIAN
BEGIN:VEVENT
UID:b98a4204-7e48-11ee-bb23-0a58a9feac02
DTSTAMP:20231114T162125Z
SUMMARY:Hive pizza sale ($3.00/slice or $5.00 for 2 slices)
URL;VALUE=URI:https://www.hunterdonprep.org/calendar/4935176/hive-pizza-sal
 e
DTSTART:20231117T172500Z
DTEND:20231117T182500Z
END:VEVENT
END:VCALENDAR
