BEGIN:VCALENDAR
VERSION:2.0
PRODID:SchoolNow
CALSCALE:GREGORIAN
BEGIN:VEVENT
UID:858f3dd2-79ad-11ee-84c4-02dcebd9e829
DTSTAMP:20231102T182747Z
SUMMARY:Holiday caroling
URL;VALUE=URI:https://www.hunterdonprep.org/calendar/4923180/holiday-caroli
 ng
DTSTART:20231219T140000Z
DTEND:20231219T150000Z
END:VEVENT
END:VCALENDAR
