BEGIN:VCALENDAR
VERSION:2.0
PRODID:SchoolNow
CALSCALE:GREGORIAN
BEGIN:VEVENT
UID:766fde56-79ad-11ee-ba42-0a9928b5316d
DTSTAMP:20231102T182721Z
SUMMARY:ASVAB testing at HPS
URL;VALUE=URI:https://www.hunterdonprep.org/calendar/4923179/asvab-testing-
 at-hps
DTSTART:20231213T140000Z
DTEND:20231213T170000Z
END:VEVENT
END:VCALENDAR
