BEGIN:VCALENDAR
VERSION:2.0
PRODID:SchoolNow
CALSCALE:GREGORIAN
BEGIN:VEVENT
UID:61206336-79ad-11ee-8c49-02dcebd9e829
DTSTAMP:20231102T182646Z
SUMMARY:Service dog assembly
URL;VALUE=URI:https://www.hunterdonprep.org/calendar/4923178/service-dog-as
 sembly
DTSTART:20231206T173000Z
DTEND:20231206T183000Z
END:VEVENT
END:VCALENDAR
