BEGIN:VCALENDAR
VERSION:2.0
PRODID:SchoolNow
CALSCALE:GREGORIAN
BEGIN:VEVENT
UID:329be1ac-79ad-11ee-b926-0e68d077e9c9
DTSTAMP:20231102T182528Z
SUMMARY:Met Museum trip
URL;VALUE=URI:https://www.hunterdonprep.org/calendar/4923176/met-museum-tri
 p
DTSTART;VALUE=DATE:20231116
DTEND;VALUE=DATE:20231117
END:VEVENT
END:VCALENDAR
