BEGIN:VCALENDAR
VERSION:2.0
PRODID:SchoolNow
CALSCALE:GREGORIAN
BEGIN:VEVENT
UID:22ba990e-79ad-11ee-84b7-0a58a9feac02
DTSTAMP:20231102T182501Z
SUMMARY:Nest baked potato sale ($3.00)
URL;VALUE=URI:https://www.hunterdonprep.org/calendar/4923175/nest-baked-pot
 ato-sale-3-00
DTSTART:20231115T173000Z
DTEND:20231115T183000Z
END:VEVENT
END:VCALENDAR
