BEGIN:VCALENDAR
VERSION:2.0
PRODID:SchoolNow
CALSCALE:GREGORIAN
BEGIN:VEVENT
UID:cc2865c2-6e98-11ee-91f3-02a685b5c405
DTSTAMP:20231019T160240Z
SUMMARY:Warm coat drive (10/19-11/16/23)
URL;VALUE=URI:https://www.hunterdonprep.org/calendar/4881115/warm-coat-driv
 e-10-19-11-16-23
DTSTART;VALUE=DATE:20231019
DTEND;VALUE=DATE:20231117
END:VEVENT
END:VCALENDAR
