BEGIN:VCALENDAR
VERSION:2.0
PRODID:SchoolNow
CALSCALE:GREGORIAN
BEGIN:VEVENT
UID:139e8644-6e98-11ee-9c95-02ad44f17799
DTSTAMP:20231019T155633Z
SUMMARY:Halloween spirit week - mix & match Thursday (orange/black\, socks\
 , hair\, etc.)
URL;VALUE=URI:https://www.hunterdonprep.org/calendar/4880986/halloween-spir
 it-week-mix-match-thursday-orange-black-socks-hair-etc
DTSTART;VALUE=DATE:20231026
DTEND;VALUE=DATE:20231027
END:VEVENT
END:VCALENDAR
