BEGIN:VCALENDAR
VERSION:2.0
PRODID:SchoolNow
CALSCALE:GREGORIAN
BEGIN:VEVENT
UID:fbf2868a-6e97-11ee-8e26-0a58a9feac02
DTSTAMP:20231019T155554Z
SUMMARY:Halloween spirit week - formal Wednesday
URL;VALUE=URI:https://www.hunterdonprep.org/calendar/4880984/halloween-spir
 it-week-formal-wednesday
DTSTART;VALUE=DATE:20231025
DTEND;VALUE=DATE:20231026
END:VEVENT
END:VCALENDAR
