BEGIN:VCALENDAR
VERSION:2.0
PRODID:SchoolNow
CALSCALE:GREGORIAN
BEGIN:VEVENT
UID:e501cb8e-6e97-11ee-8f13-0a58a9feac02
DTSTAMP:20231019T155515Z
SUMMARY:Halloween spirit week - Twin/triplet Tuesday
URL;VALUE=URI:https://www.hunterdonprep.org/calendar/4880983/halloween-spir
 it-week-twin-triplet-tuesday
DTSTART;VALUE=DATE:20231024
DTEND;VALUE=DATE:20231025
END:VEVENT
END:VCALENDAR
