BEGIN:VCALENDAR
VERSION:2.0
PRODID:SchoolNow
CALSCALE:GREGORIAN
BEGIN:VEVENT
UID:d566b7b6-6e97-11ee-afcd-0a58a9feac02
DTSTAMP:20231019T155449Z
SUMMARY:Halloween spirit week - Meme Monday
URL;VALUE=URI:https://www.hunterdonprep.org/calendar/4880982/halloween-spir
 it-week-meme-monday
DTSTART;VALUE=DATE:20231023
DTEND;VALUE=DATE:20231024
END:VEVENT
END:VCALENDAR
