BEGIN:VCALENDAR
VERSION:2.0
PRODID:SchoolNow
CALSCALE:GREGORIAN
BEGIN:VEVENT
UID:8cdb88a0-6e97-11ee-9b75-02a685b5c405
DTSTAMP:20231019T155247Z
SUMMARY:Halloween concert rehearsal (2:30-6:30 PM)
URL;VALUE=URI:https://www.hunterdonprep.org/calendar/4880981/halloween-conc
 ert-rehearsal-2-30-6-30-pm
DTSTART:20231030T183000Z
DTEND:20231030T223000Z
END:VEVENT
END:VCALENDAR
