BEGIN:VCALENDAR
VERSION:2.0
PRODID:SchoolNow
CALSCALE:GREGORIAN
BEGIN:VEVENT
UID:ab570850-6d01-11ee-80e5-0e0877ff6e45
DTSTAMP:20231017T152723Z
SUMMARY:PSAT's (10th graders)
URL;VALUE=URI:https://www.hunterdonprep.org/calendar/4873780/psats-10th-gra
 ders
DTSTART:20231024T130000Z
DTEND:20231024T160000Z
END:VEVENT
END:VCALENDAR
