BEGIN:VCALENDAR
VERSION:2.0
PRODID:SchoolNow
CALSCALE:GREGORIAN
BEGIN:VEVENT
UID:47838cea-646e-11ee-b6b4-0a7b1f1f8355
DTSTAMP:20231019T160031Z
SUMMARY:Haunted Mill trip (2:30-8:00 PM)
URL;VALUE=URI:https://www.hunterdonprep.org/calendar/4838169/haunted-mill-t
 rip
DTSTART:20231020T183000Z
DTEND:20231020T233000Z
END:VEVENT
END:VCALENDAR
