BEGIN:VCALENDAR
VERSION:2.0
PRODID:SchoolNow
CALSCALE:GREGORIAN
BEGIN:VEVENT
UID:b7c49df6-646d-11ee-a5bb-0a0f97b86bbb
DTSTAMP:20231019T155858Z
SUMMARY:Troupe pumpkin picking trip
URL;VALUE=URI:https://www.hunterdonprep.org/calendar/4838168/troupe-pumpkin
 -picking-trip
DTSTART:20231025T130000Z
DTEND:20231025T163000Z
END:VEVENT
END:VCALENDAR
