BEGIN:VCALENDAR
VERSION:2.0
PRODID:SchoolNow
CALSCALE:GREGORIAN
BEGIN:VEVENT
UID:9fe9b4be-646d-11ee-bc32-0e8c9380f26d
DTSTAMP:20231010T185058Z
SUMMARY:Cave donut sale ($2.00 each)
URL;VALUE=URI:https://www.hunterdonprep.org/calendar/4838167/cave-donut-sal
 e
DTSTART:20231012T130000Z
DTEND:20231012T140000Z
END:VEVENT
END:VCALENDAR
