BEGIN:VCALENDAR
VERSION:2.0
PRODID:SchoolNow
CALSCALE:GREGORIAN
BEGIN:VEVENT
UID:699a1b56-5e05-11ee-b537-0a58a9feac02
DTSTAMP:20230928T134623Z
SUMMARY:After school Art Club starts on 10/3
URL;VALUE=URI:https://www.hunterdonprep.org/calendar/4805480/after-school-a
 rt-club-starts-on-10-3
DTSTART:20231003T183000Z
DTEND:20231003T203000Z
END:VEVENT
END:VCALENDAR
