BEGIN:VCALENDAR
VERSION:2.0
PRODID:SchoolNow
CALSCALE:GREGORIAN
BEGIN:VEVENT
UID:14271cfa-5e05-11ee-ac8f-0eb6ec44a1e3
DTSTAMP:20230928T134400Z
SUMMARY:Parent support group (7-8 PM virtual)
URL;VALUE=URI:https://www.hunterdonprep.org/calendar/4805477/parent-support
 -group-7-8-pm-virtual
DTSTART:20231023T230000Z
DTEND:20231024T000000Z
END:VEVENT
END:VCALENDAR
