BEGIN:VCALENDAR
VERSION:2.0
PRODID:SchoolNow
CALSCALE:GREGORIAN
BEGIN:VEVENT
UID:079b6180-5e05-11ee-b93b-0a877b798239
DTSTAMP:20230928T134339Z
SUMMARY:Parent support group (7-8 PM virtual)
URL;VALUE=URI:https://www.hunterdonprep.org/calendar/4805475/parent-support
 -group-7-8-pm-virtual
DTSTART:20231016T230000Z
DTEND:20231017T000000Z
END:VEVENT
END:VCALENDAR
