BEGIN:VCALENDAR
VERSION:2.0
PRODID:SchoolNow
CALSCALE:GREGORIAN
BEGIN:VEVENT
UID:d480dabe-5e04-11ee-a412-0a58a9feac02
DTSTAMP:20230928T134213Z
SUMMARY:Parent support group (7-8 PM virtual)
URL;VALUE=URI:https://www.hunterdonprep.org/calendar/4805474/parent-support
 -group-7-8-pm-virtual
DTSTART:20231009T230000Z
DTEND:20231010T000000Z
END:VEVENT
END:VCALENDAR
