BEGIN:VCALENDAR
VERSION:2.0
PRODID:SchoolNow
CALSCALE:GREGORIAN
BEGIN:VEVENT
UID:aa660722-5e04-11ee-a928-0eb6ec44a1e3
DTSTAMP:20230928T134102Z
SUMMARY:Parent support group (7-8 PM virtual)
URL;VALUE=URI:https://www.hunterdonprep.org/calendar/4805471/parent-support
 -group-7-8-pm-virtual
DTSTART:20231002T230000Z
DTEND:20231003T000000Z
END:VEVENT
END:VCALENDAR
