BEGIN:VCALENDAR
VERSION:2.0
PRODID:SchoolNow
CALSCALE:GREGORIAN
BEGIN:VEVENT
UID:cf6908da-5d3c-11ee-a162-0a58a9feac02
DTSTAMP:20230927T135025Z
SUMMARY:Webinar for HPS parents/guardians: Turning 18: Guardianship\, Entit
 lements & Waiting Lists
URL;VALUE=URI:https://www.hunterdonprep.org/calendar/4800632/webinar-for-hp
 s-parents-guardians
DTSTART:20231018T223000Z
DTEND:20231019T000000Z
END:VEVENT
END:VCALENDAR
