BEGIN:VCALENDAR
VERSION:2.0
PRODID:SchoolNow
CALSCALE:GREGORIAN
BEGIN:VEVENT
UID:b606dd96-5881-11ee-aa5c-0a4d8e0ae857
DTSTAMP:20230921T132102Z
SUMMARY:After school club (pumpkin carving)
URL;VALUE=URI:https://www.hunterdonprep.org/calendar/4771624/after-school-c
 lub-pumpkin-carving
DTSTART:20231024T183000Z
DTEND:20231024T203000Z
END:VEVENT
END:VCALENDAR
