BEGIN:VCALENDAR
VERSION:2.0
PRODID:SchoolNow
CALSCALE:GREGORIAN
BEGIN:VEVENT
UID:a3e48a8c-5881-11ee-ad5a-0a58a9feac02
DTSTAMP:20230921T132031Z
SUMMARY:After school club (outdoor fun)
URL;VALUE=URI:https://www.hunterdonprep.org/calendar/4771623/after-school-c
 lub-outdoor-fun
DTSTART:20231017T183000Z
DTEND:20231017T203000Z
END:VEVENT
END:VCALENDAR
