BEGIN:VCALENDAR
VERSION:2.0
PRODID:SchoolNow
CALSCALE:GREGORIAN
BEGIN:VEVENT
UID:96767770-5881-11ee-a02e-0a58a9feac02
DTSTAMP:20230921T132009Z
SUMMARY:After school club (music madness)
URL;VALUE=URI:https://www.hunterdonprep.org/calendar/4771622/after-school-c
 lub-music-madness
DTSTART:20231010T183000Z
DTEND:20231010T203000Z
END:VEVENT
END:VCALENDAR
